BEGIN:VCALENDAR
VERSION:2.0
PRODID:-//Sabre//Sabre VObject 4.5.8//EN
CALSCALE:GREGORIAN
BEGIN:VEVENT
UID:sabre-vobject-f9bc6d45-99bb-4df7-af7e-3bef2116e841
DTSTAMP:20260420T114152Z
SUMMARY:My Montana Wedding Expo
DESCRIPTION:
X-ALT-DESC:FMTTYPE=text/html:<!DOCTYPE HTML PUBLIC "-//W3C//DTD HTML 3.2//E
 N"><HTML></HTML>
CREATED;TZID=America/Denver:20250130T125752
URL;VALUE=URI:https://flatheadcounty.gov/county-calendar/calendar-event-det
 ail/my-montana-wedding-expo
DTSTART;TZID=America/Denver:20250104T120000
DTEND;TZID=America/Denver:20250104T160000
SEQUENCE:0
END:VEVENT
END:VCALENDAR
