BEGIN:VCALENDAR
VERSION:2.0
PRODID:-//Sabre//Sabre VObject 4.5.8//EN
CALSCALE:GREGORIAN
BEGIN:VEVENT
UID:sabre-vobject-b66b59dc-f4a6-4fc9-8e31-279ad403239c
DTSTAMP:20260421T050744Z
SUMMARY:Rockin' WK Banquet
DESCRIPTION:
X-ALT-DESC:FMTTYPE=text/html:<!DOCTYPE HTML PUBLIC "-//W3C//DTD HTML 3.2//E
 N"><HTML></HTML>
CREATED;TZID=America/Denver:20241212T113318
URL;VALUE=URI:https://flatheadcounty.gov/county-calendar/calendar-event-det
 ail/rockin-wk-banquet
DTSTART;TZID=America/Denver:20250118T150000
DTEND;TZID=America/Denver:20250118T213000
SEQUENCE:0
END:VEVENT
END:VCALENDAR
