BEGIN:VCALENDAR
VERSION:2.0
PRODID:-//Sabre//Sabre VObject 4.5.8//EN
CALSCALE:GREGORIAN
BEGIN:VEVENT
UID:sabre-vobject-3f61b997-dc58-4667-8059-29d347070401
DTSTAMP:20260420T123037Z
SUMMARY:EMS Administrative Board Workshop
DESCRIPTION:Flathead County EMS Admin Board will be meeting on January 9th 
 at 1400 to discuss potential changes to the EMS Stipend Payments Policy 60
 5.1. No final decision will be made at this meeting. This is to allow the 
 board members to come together and work on the policy together. \n\n&nbsp\
 ;\n\nMembers of the public are welcome to attend and voice their opinions 
 during the workshop.\n\n&nbsp\;\n\nThank you.\n
X-ALT-DESC:FMTTYPE=text/html:<!DOCTYPE HTML PUBLIC "-//W3C//DTD HTML 3.2//E
 N"><HTML><p><span style="font-size:12pt"><span style="font-family:&quot\;T
 imes New Roman&quot\;\,serif"><b><span style="font-family:&quot\;Calibri&q
 uot\;\,sans-serif">Flathead County EMS Admin Board will be meeting on Janu
 ary 9<sup>th</sup> at 1400 to discuss potential changes to the EMS Stipend
  Payments Policy 605.1. No final decision will be made at this meeting. Th
 is is to allow the board members to come together and work on the policy t
 ogether. </span></b></span></span></p>\n\n<p>&nbsp\;</p>\n\n<p><span style
 ="font-size:12pt"><span style="font-family:&quot\;Times New Roman&quot\;\,
 serif"><b><span style="font-family:&quot\;Calibri&quot\;\,sans-serif">Memb
 ers of the public are welcome to attend and voice their opinions during th
 e workshop.</span></b></span></span></p>\n\n<p>&nbsp\;</p>\n\n<p><span sty
 le="font-size:12pt"><span style="font-family:&quot\;Times New Roman&quot\;
 \,serif"><b><span style="font-family:&quot\;Calibri&quot\;\,sans-serif">Th
 ank you.</span></b></span></span></p>\n</HTML>
CREATED;TZID=America/Denver:20250102T113044
URL;VALUE=URI:https://flatheadcounty.gov/county-calendar/calendar-event-det
 ail/ems-administrative-board-workshop
DTSTART;TZID=America/Denver:20250109T140000
DTEND;TZID=America/Denver:20250109T160000
SEQUENCE:0
END:VEVENT
END:VCALENDAR
