BEGIN:VCALENDAR
VERSION:2.0
PRODID:-//Sabre//Sabre VObject 4.5.8//EN
CALSCALE:GREGORIAN
BEGIN:VEVENT
UID:sabre-vobject-25de4fd8-c735-49c2-9123-d8e15179d406
DTSTAMP:20260420T114048Z
SUMMARY:Fight Fraud Friday
DESCRIPTION:Stop for lunch and join us in the AOA Dining Room for tips to p
 rotect yourself against Medicare fraud and stay one step ahead of fraudste
 rs. For more info\, please call (406) 758-2471.&nbsp\;\n
X-ALT-DESC:FMTTYPE=text/html:<!DOCTYPE HTML PUBLIC "-//W3C//DTD HTML 3.2//E
 N"><HTML><p>Stop for lunch and join us in the AOA Dining Room for tips to 
 protect yourself against Medicare fraud and stay one step ahead of fraudst
 ers. For more info\, please call (406) 758-2471.&nbsp\;</p>\n</HTML>
CREATED;TZID=America/Denver:20250106T101011
URL;VALUE=URI:https://flatheadcounty.gov/county-calendar/calendar-event-det
 ail/fight-fraud-friday-15
DTSTART;TZID=America/Denver:20250110T113000
DTEND;TZID=America/Denver:20250110T130000
SEQUENCE:0
END:VEVENT
END:VCALENDAR
