BEGIN:VCALENDAR
VERSION:2.0
PRODID:-//Sabre//Sabre VObject 4.5.8//EN
CALSCALE:GREGORIAN
BEGIN:VEVENT
UID:sabre-vobject-d11f774f-20c7-4f10-8aca-ec0946fd0170
DTSTAMP:20260420T114149Z
SUMMARY:AOA Advisory Council Meeting
DESCRIPTION:The Agency on Aging Advisory Council meets in the South Campus 
 Conference Room\, 40 11th St W in Kalispell from 2:00-3:00 pm. The public 
 is welcome. For more information\, please call 406-758-5730.\n
X-ALT-DESC:FMTTYPE=text/html:<!DOCTYPE HTML PUBLIC "-//W3C//DTD HTML 3.2//E
 N"><HTML><p>The Agency on Aging Advisory Council meets in the South Campus
  Conference Room\, 40 11th St W in Kalispell from 2:00-3:00 pm. The public
  is welcome. For more information\, please call 406-758-5730.</p>\n</HTML>
CREATED;TZID=America/Denver:20250106T122458
URL;VALUE=URI:https://flatheadcounty.gov/county-calendar/calendar-event-det
 ail/aoa-advisory-council-meeting-6
DTSTART;TZID=America/Denver:20250116T140000
DTEND;TZID=America/Denver:20250116T150000
SEQUENCE:0
END:VEVENT
END:VCALENDAR
