BEGIN:VCALENDAR
VERSION:2.0
PRODID:-//Sabre//Sabre VObject 4.5.8//EN
CALSCALE:GREGORIAN
BEGIN:VEVENT
UID:sabre-vobject-a60268a6-2f57-44b2-946d-268fe01ac1f1
DTSTAMP:20260420T113859Z
SUMMARY:Medicare 101 Class
DESCRIPTION:This seminar will help you gain a better understanding of Medic
 are. Held the fourth Tuesday of each month in the South Campus Conference 
 Room\, 40 11th St West\, Kalispell from 1-3 pm. Please call 406-758-5730 f
 or more information and to reserve your spot.&nbsp\;\n
X-ALT-DESC:FMTTYPE=text/html:<!DOCTYPE HTML PUBLIC "-//W3C//DTD HTML 3.2//E
 N"><HTML><p>This seminar will help you gain a better understanding of Medi
 care. Held the fourth Tuesday of each month in the South Campus Conference
  Room\, 40 11th St West\, Kalispell from 1-3 pm. Please call 406-758-5730 
 for more information and to reserve your spot.&nbsp\;</p>\n</HTML>
CREATED;TZID=America/Denver:20250106T122913
URL;VALUE=URI:https://flatheadcounty.gov/county-calendar/calendar-event-det
 ail/medicare-101-class-1
DTSTART;TZID=America/Denver:20250128T130000
DTEND;TZID=America/Denver:20250128T150000
SEQUENCE:0
END:VEVENT
END:VCALENDAR
