BEGIN:VCALENDAR
VERSION:2.0
PRODID:-//Sabre//Sabre VObject 4.5.8//EN
CALSCALE:GREGORIAN
BEGIN:VEVENT
UID:sabre-vobject-7ce648ff-9eac-48b8-924a-ac4285e3f84a
DTSTAMP:20260420T114153Z
SUMMARY:Big Mountain Resort Area Ballots Mailed
DESCRIPTION:
X-ALT-DESC:FMTTYPE=text/html:<!DOCTYPE HTML PUBLIC "-//W3C//DTD HTML 3.2//E
 N"><HTML></HTML>
CREATED;TZID=America/Denver:20250107T162207
URL;VALUE=URI:https://flatheadcounty.gov/county-calendar/calendar-event-det
 ail/big-mountain-resort-area-ballots-mailed
DTSTART;TZID=America/Denver:20250102T000000
DTEND;TZID=America/Denver:20250102T235959
SEQUENCE:0
END:VEVENT
END:VCALENDAR
