BEGIN:VCALENDAR
VERSION:2.0
PRODID:-//Sabre//Sabre VObject 4.5.8//EN
CALSCALE:GREGORIAN
BEGIN:VEVENT
UID:sabre-vobject-ad2cb309-8b81-4f37-932b-64fe9492498f
DTSTAMP:20260420T114050Z
SUMMARY:Special District Candidate Filing Closes
DESCRIPTION:This is last day to file a Declaration of Nomination/Oath of Ca
 ndidacy for a Special District Board position. All declarations must be fi
 led through the Flathead County Elections Office before 5pm.&nbsp\;\n\nPle
 ase visit the Candidate Filing page for more information!\n
X-ALT-DESC:FMTTYPE=text/html:<!DOCTYPE HTML PUBLIC "-//W3C//DTD HTML 3.2//E
 N"><HTML><p>This is last day to file a Declaration of Nomination/Oath of C
 andidacy for a Special District Board position. All declarations must be f
 iled through the Flathead County Elections Office before 5pm.&nbsp\;</p>\n
 \n<p>Please visit the <a href="https://flatheadcounty.gov/department-direc
 tory/election/candidate-filling">Candidate Filing page</a> for more inform
 ation!</p>\n</HTML>
CREATED;TZID=America/Denver:20250109T111416
URL;VALUE=URI:https://flatheadcounty.gov/county-calendar/calendar-event-det
 ail/special-district-candidate-filing-closes-5pm
DTSTART;TZID=America/Denver:20250210T080000
DTEND;TZID=America/Denver:20250210T170000
SEQUENCE:0
END:VEVENT
END:VCALENDAR
