BEGIN:VCALENDAR
VERSION:2.0
PRODID:-//Sabre//Sabre VObject 4.5.8//EN
CALSCALE:GREGORIAN
BEGIN:VEVENT
UID:sabre-vobject-b531acfc-2003-421e-8f37-59d3191c4365
DTSTAMP:20260421T153311Z
SUMMARY:Special District Write-In Candidate Filing Opens
DESCRIPTION:The write-in candidate filing period opens today for all Specia
 l District Board positions. Declarations of Intent &amp\; Oath of Candidac
 y forms must be filed through the Flathead County Elections Office during 
 normal office hours.&nbsp\;\n\nThis filing periods end on&nbsp\; Monday\, 
 March 3\, 2025 at 5pm.\n\nPlease visit the Candidate Filing page for more 
 information!\n
X-ALT-DESC:FMTTYPE=text/html:<!DOCTYPE HTML PUBLIC "-//W3C//DTD HTML 3.2//E
 N"><HTML><p>The write-in candidate filing period opens today for all Speci
 al District Board positions. Declarations of Intent &amp\; Oath of Candida
 cy forms must be filed through the Flathead County Elections Office during
  normal office hours.&nbsp\;</p>\n\n<p>This filing periods end on&nbsp\; M
 onday\, March 3\, 2025 at 5pm.</p>\n\n<p>Please visit the <a href="https:/
 /flatheadcounty.gov/department-directory/election/candidate-filling">Candi
 date Filing page</a> for more information!</p>\n</HTML>
CREATED;TZID=America/Denver:20250109T110108
URL;VALUE=URI:https://flatheadcounty.gov/county-calendar/calendar-event-det
 ail/special-district-write-candidate-filing-opens-8-am
DTSTART;TZID=America/Denver:20250211T080000
DTEND;TZID=America/Denver:20250211T170000
SEQUENCE:0
END:VEVENT
END:VCALENDAR
