BEGIN:VCALENDAR
VERSION:2.0
PRODID:-//Sabre//Sabre VObject 4.5.8//EN
CALSCALE:GREGORIAN
BEGIN:VEVENT
UID:sabre-vobject-d173037f-91f2-4535-a523-8b4d1ba1a2dc
DTSTAMP:20260420T113902Z
SUMMARY:Special District Write-In Candidate Filing Closes 
DESCRIPTION:This is last day to file a Declaration of Intent/Oath of Candid
 acy as a write-in candidate for a Special District Board position. All dec
 larations must be filed through the Flathead County Elections Office befor
 e 5pm.&nbsp\;\n\nPlease visit the Candidate Filing page for more informati
 on!\n
X-ALT-DESC:FMTTYPE=text/html:<!DOCTYPE HTML PUBLIC "-//W3C//DTD HTML 3.2//E
 N"><HTML><p>This is last day to file a Declaration of Intent/Oath of Candi
 dacy as a write-in candidate for a Special District Board position. All de
 clarations must be filed through the Flathead County Elections Office befo
 re 5pm.&nbsp\;</p>\n\n<p>Please visit the <a href="https://flatheadcounty.
 gov/department-directory/election/candidate-filling">Candidate Filing page
 </a> for more information!</p>\n</HTML>
CREATED;TZID=America/Denver:20250109T110715
URL;VALUE=URI:https://flatheadcounty.gov/county-calendar/calendar-event-det
 ail/special-district-write-candidate-filing-closes-5pm
DTSTART;TZID=America/Denver:20250303T080000
DTEND;TZID=America/Denver:20250303T170000
SEQUENCE:0
END:VEVENT
END:VCALENDAR
