BEGIN:VCALENDAR
VERSION:2.0
PRODID:-//Sabre//Sabre VObject 4.5.8//EN
CALSCALE:GREGORIAN
BEGIN:VEVENT
UID:sabre-vobject-8aee3f93-c474-4df0-921e-12788318e68a
DTSTAMP:20260420T113419Z
SUMMARY:EMS Administrative Board Special Meeting 
DESCRIPTION:Special Meeting of the Flathead County Emergency Medical Servic
 es Administrative Board. Meeting will be held in the EOC room at OES. 625 
 Timberwolf Parkway\, Kalispell MT 59901 and Online via Goto Meeting. If yo
 u&#39\;re wanting the online link to Goto Meeting\, please email fcems@fla
 theadcounty.gov to obtain that.\n\nPlease note: Agenda will be posted prio
 r to the meeting at OES and online. Agenda is subject to change. Agenda wi
 ll be posted no later than 48 hours prior to the meeting.&nbsp\;\n
X-ALT-DESC:FMTTYPE=text/html:<!DOCTYPE HTML PUBLIC "-//W3C//DTD HTML 3.2//E
 N"><HTML><p>Special Meeting of the Flathead County Emergency Medical Servi
 ces Administrative Board. Meeting will be held in the EOC room at OES. 625
  Timberwolf Parkway\, Kalispell MT 59901 and Online via Goto Meeting. If y
 ou&#39\;re wanting the online link to Goto Meeting\, please email fcems@fl
 atheadcounty.gov to obtain that.</p>\n\n<p>Please note: Agenda will be pos
 ted prior to the meeting at OES and online. Agenda is subject to change. A
 genda will be posted no later than 48 hours prior to the meeting.&nbsp\;</
 p>\n</HTML>
CREATED;TZID=America/Denver:20250124T151441
URL;VALUE=URI:https://flatheadcounty.gov/county-calendar/calendar-event-det
 ail/ems-administrative-board-special-meeting
DTSTART;TZID=America/Denver:20250129T153000
DTEND;TZID=America/Denver:20250129T154500
SEQUENCE:0
END:VEVENT
END:VCALENDAR
