BEGIN:VCALENDAR
VERSION:2.0
PRODID:-//Sabre//Sabre VObject 4.5.8//EN
CALSCALE:GREGORIAN
BEGIN:VEVENT
UID:sabre-vobject-90c7a10a-8e4b-48a8-b841-41345759524f
DTSTAMP:20260420T113413Z
SUMMARY:EMS Administrative Board Workshop
DESCRIPTION:Flathead County EMS Admin Board will be meeting on February 3rd
  at 1500 to discuss potential changes to the EMS Medical Director Contact 
 and adding a Co-Medical Director / Assistant Medical Director. No final de
 cision will be made at this meeting. This is to allow the board members to
  come together and work on the contracts together.\n\n\nMembers of the pub
 lic are welcome to attend and voice their opinions during the workshop.\n\
 n\nThank you.\n
X-ALT-DESC:FMTTYPE=text/html:<!DOCTYPE HTML PUBLIC "-//W3C//DTD HTML 3.2//E
 N"><HTML><p><b>Flathead County EMS Admin Board will be meeting on February
  3rd at 1500 to discuss potential changes to the EMS Medical Director Cont
 act and adding a Co-Medical Director / Assistant Medical Director. No fina
 l decision will be made at this meeting. This is to allow the board member
 s to come together and work on the contracts together.</b></p>\n\n<p><br /
 >\n<b>Members of the public are welcome to attend and voice their opinions
  during the workshop.</b></p>\n\n<p><br />\n<b>Thank you.</b></p>\n</HTML>
CREATED;TZID=America/Denver:20250124T151931
URL;VALUE=URI:https://flatheadcounty.gov/county-calendar/calendar-event-det
 ail/ems-administrative-board-workshop-1
DTSTART;TZID=America/Denver:20250203T150000
DTEND;TZID=America/Denver:20250203T173000
SEQUENCE:0
END:VEVENT
END:VCALENDAR
