BEGIN:VCALENDAR
VERSION:2.0
PRODID:-//Sabre//Sabre VObject 4.5.8//EN
CALSCALE:GREGORIAN
BEGIN:VEVENT
UID:sabre-vobject-0fab162a-12ba-4de9-bfe1-ac9adf5b2585
DTSTAMP:20260420T114121Z
SUMMARY:Bigfork Land Use Advisory Committee (BLUAC)
DESCRIPTION:
X-ALT-DESC:FMTTYPE=text/html:<!DOCTYPE HTML PUBLIC "-//W3C//DTD HTML 3.2//E
 N"><HTML></HTML>
CREATED;TZID=America/Denver:20250124T162122
URL;VALUE=URI:https://flatheadcounty.gov/county-calendar/calendar-event-det
 ail/bigfork-land-use-advisory-committee-bluac-4
DTSTART;TZID=America/Denver:20250130T160000
DTEND;TZID=America/Denver:20250130T180000
SEQUENCE:0
END:VEVENT
END:VCALENDAR
