BEGIN:VCALENDAR
VERSION:2.0
PRODID:-//Sabre//Sabre VObject 4.5.8//EN
CALSCALE:GREGORIAN
BEGIN:VEVENT
UID:sabre-vobject-87e26bf8-791a-44c3-aaa2-2d30c952b775
DTSTAMP:20260420T115641Z
SUMMARY:Ashley Lake Land Use Advisory Committee Meeting
DESCRIPTION:
X-ALT-DESC:FMTTYPE=text/html:<!DOCTYPE HTML PUBLIC "-//W3C//DTD HTML 3.2//E
 N"><HTML></HTML>
CREATED;TZID=America/Denver:20250124T163745
URL;VALUE=URI:https://flatheadcounty.gov/county-calendar/calendar-event-det
 ail/ashley-lake-land-use-advisory-committee-meeting
DTSTART;TZID=America/Denver:20250130T190000
DTEND;TZID=America/Denver:20250130T210000
SEQUENCE:0
END:VEVENT
END:VCALENDAR
