BEGIN:VCALENDAR
VERSION:2.0
PRODID:-//Sabre//Sabre VObject 4.5.8//EN
CALSCALE:GREGORIAN
BEGIN:VEVENT
UID:sabre-vobject-f6e7f167-7999-4902-bb95-b570275e31c7
DTSTAMP:20260420T113901Z
SUMMARY:Fight Fraud Friday
DESCRIPTION:Stop for lunch and join us in the AOA Dining Room\, 40 11th St 
 W\, Kalispell\, for tips to protect yourself against Identity Theft. We wi
 ll have helpful information about Identity Theft Scams and Medicare Fraud 
 awareness and prevention. Call 406-758-2471 for more information.\n
X-ALT-DESC:FMTTYPE=text/html:<!DOCTYPE HTML PUBLIC "-//W3C//DTD HTML 3.2//E
 N"><HTML><p>Stop for lunch and join us in the AOA Dining Room\, 40 11th St
  W\, Kalispell\, for tips to protect yourself against Identity Theft. We w
 ill have helpful information about Identity Theft Scams and Medicare Fraud
  awareness and prevention. Call 406-758-2471 for more information.</p>\n</
 HTML>
CREATED;TZID=America/Denver:20250131T151240
URL;VALUE=URI:https://flatheadcounty.gov/county-calendar/calendar-event-det
 ail/fight-fraud-friday-16
DTSTART;TZID=America/Denver:20250214T113000
DTEND;TZID=America/Denver:20250214T130000
SEQUENCE:0
END:VEVENT
END:VCALENDAR
