BEGIN:VCALENDAR
VERSION:2.0
PRODID:-//Sabre//Sabre VObject 4.5.8//EN
CALSCALE:GREGORIAN
BEGIN:VEVENT
UID:sabre-vobject-6f799ed6-f82f-4bcc-8157-1fa9608ec908
DTSTAMP:20260420T113457Z
SUMMARY:Medicare 101 Class
DESCRIPTION:This seminar will help you gain a better understanding of Medic
 are\, whether you&#39\;re currently on Medicare\, you&#39\;re about to bec
 ome eligible or you&#39\;re a caregiver for someone who it. Held on the 4t
 h Tuesday each month in the South Campus Conference Room\, 40 11th St W\, 
 in Kalispell. Call 406-758-5730 tor reserve your seat.\n
X-ALT-DESC:FMTTYPE=text/html:<!DOCTYPE HTML PUBLIC "-//W3C//DTD HTML 3.2//E
 N"><HTML><p>This seminar will help you gain a better understanding of Medi
 care\, whether you&#39\;re currently on Medicare\, you&#39\;re about to be
 come eligible or you&#39\;re a caregiver for someone who it. Held on the 4
 th Tuesday each month in the South Campus Conference Room\, 40 11th St W\,
  in Kalispell. Call 406-758-5730 tor reserve your seat.</p>\n</HTML>
CREATED;TZID=America/Denver:20250131T151759
URL;VALUE=URI:https://flatheadcounty.gov/county-calendar/calendar-event-det
 ail/medicare-101-class-2
DTSTART;TZID=America/Denver:20250225T130000
DTEND;TZID=America/Denver:20250225T150000
SEQUENCE:0
END:VEVENT
END:VCALENDAR
