BEGIN:VCALENDAR
VERSION:2.0
PRODID:-//Sabre//Sabre VObject 4.5.8//EN
CALSCALE:GREGORIAN
BEGIN:VEVENT
UID:sabre-vobject-2a22c808-6299-44d8-befd-ca81f2b753a5
DTSTAMP:20260420T114050Z
SUMMARY:Making a Difference Wrestling Tournament 
DESCRIPTION:
X-ALT-DESC:FMTTYPE=text/html:<!DOCTYPE HTML PUBLIC "-//W3C//DTD HTML 3.2//E
 N"><HTML></HTML>
CREATED;TZID=America/Denver:20250204T100856
URL;VALUE=URI:https://flatheadcounty.gov/county-calendar/calendar-event-det
 ail/making-difference-wrestling-tournament
DTSTART;TZID=America/Denver:20250301T000000
DTEND;TZID=America/Denver:20250301T235959
SEQUENCE:0
END:VEVENT
END:VCALENDAR
