BEGIN:VCALENDAR
VERSION:2.0
PRODID:-//Sabre//Sabre VObject 4.5.8//EN
CALSCALE:GREGORIAN
BEGIN:VEVENT
UID:sabre-vobject-ff29b09b-dd4b-402d-866d-277ed31e5d93
DTSTAMP:20260422T093100Z
SUMMARY:Hot Tub & Swim Spa Sale 
DESCRIPTION:
X-ALT-DESC:FMTTYPE=text/html:<!DOCTYPE HTML PUBLIC "-//W3C//DTD HTML 3.2//E
 N"><HTML></HTML>
CREATED;TZID=America/Denver:20250204T110438
URL;VALUE=URI:https://flatheadcounty.gov/county-calendar/calendar-event-det
 ail/hot-tub-and-swim-spa-sale-3
DTSTART;TZID=America/Denver:20250307T140000
DTEND;TZID=America/Denver:20250307T200000
SEQUENCE:0
END:VEVENT
BEGIN:VEVENT
UID:sabre-vobject-fd02374d-3347-4d9e-b757-c9f06d36d6ba
DTSTAMP:20260422T093100Z
SUMMARY:Hot Tub & Swim Spa Sale 
DESCRIPTION:
X-ALT-DESC:FMTTYPE=text/html:<!DOCTYPE HTML PUBLIC "-//W3C//DTD HTML 3.2//E
 N"><HTML></HTML>
CREATED;TZID=America/Denver:20250204T110438
URL;VALUE=URI:https://flatheadcounty.gov/county-calendar/calendar-event-det
 ail/hot-tub-and-swim-spa-sale-3
DTSTART;TZID=America/Denver:20250308T100000
DTEND;TZID=America/Denver:20250308T200000
SEQUENCE:1
END:VEVENT
BEGIN:VEVENT
UID:sabre-vobject-2ec9c4e1-d2c0-4ce0-996d-323bcfeea443
DTSTAMP:20260422T093100Z
SUMMARY:Hot Tub & Swim Spa Sale 
DESCRIPTION:
X-ALT-DESC:FMTTYPE=text/html:<!DOCTYPE HTML PUBLIC "-//W3C//DTD HTML 3.2//E
 N"><HTML></HTML>
CREATED;TZID=America/Denver:20250204T110438
URL;VALUE=URI:https://flatheadcounty.gov/county-calendar/calendar-event-det
 ail/hot-tub-and-swim-spa-sale-3
DTSTART;TZID=America/Denver:20250309T100000
DTEND;TZID=America/Denver:20250309T180000
SEQUENCE:2
END:VEVENT
END:VCALENDAR
