BEGIN:VCALENDAR
VERSION:2.0
PRODID:-//Sabre//Sabre VObject 4.5.8//EN
CALSCALE:GREGORIAN
BEGIN:VEVENT
UID:sabre-vobject-e1fe0aa1-132d-43c0-81ea-f679ff2d1e7a
DTSTAMP:20260420T113915Z
SUMMARY:Flathead Valley Roller Derby 
DESCRIPTION:
X-ALT-DESC:FMTTYPE=text/html:<!DOCTYPE HTML PUBLIC "-//W3C//DTD HTML 3.2//E
 N"><HTML></HTML>
CREATED;TZID=America/Denver:20250204T111012
URL;VALUE=URI:https://flatheadcounty.gov/county-calendar/calendar-event-det
 ail/flathead-valley-roller-derby
DTSTART;TZID=America/Denver:20250315T000000
DTEND;TZID=America/Denver:20250315T235959
SEQUENCE:0
END:VEVENT
END:VCALENDAR
