BEGIN:VCALENDAR
VERSION:2.0
PRODID:-//Sabre//Sabre VObject 4.5.8//EN
CALSCALE:GREGORIAN
BEGIN:VEVENT
UID:sabre-vobject-06c81a17-ab20-4580-a508-29cdd7e6c725
DTSTAMP:20260420T113351Z
SUMMARY:406 Consignary 
DESCRIPTION:
X-ALT-DESC:FMTTYPE=text/html:<!DOCTYPE HTML PUBLIC "-//W3C//DTD HTML 3.2//E
 N"><HTML></HTML>
CREATED;TZID=America/Denver:20250204T144540
URL;VALUE=URI:https://flatheadcounty.gov/county-calendar/calendar-event-det
 ail/406-consignary-2
DTSTART;TZID=America/Denver:20250329T100000
DTEND;TZID=America/Denver:20250329T170000
SEQUENCE:0
END:VEVENT
BEGIN:VEVENT
UID:sabre-vobject-f486f06d-17d2-4b2d-b735-22268d4d8817
DTSTAMP:20260420T113351Z
SUMMARY:406 Consignary 
DESCRIPTION:
X-ALT-DESC:FMTTYPE=text/html:<!DOCTYPE HTML PUBLIC "-//W3C//DTD HTML 3.2//E
 N"><HTML></HTML>
CREATED;TZID=America/Denver:20250204T144540
URL;VALUE=URI:https://flatheadcounty.gov/county-calendar/calendar-event-det
 ail/406-consignary-2
DTSTART;TZID=America/Denver:20250330T100000
DTEND;TZID=America/Denver:20250330T140000
SEQUENCE:1
END:VEVENT
END:VCALENDAR
