BEGIN:VCALENDAR
VERSION:2.0
PRODID:-//Sabre//Sabre VObject 4.5.8//EN
CALSCALE:GREGORIAN
BEGIN:VEVENT
UID:sabre-vobject-b38cfd80-46b5-4d6f-91f0-bba003d4ae84
DTSTAMP:20260420T083215Z
SUMMARY:ACF Spring Cleaning Art/ Craft Supply Market 
DESCRIPTION:
X-ALT-DESC:FMTTYPE=text/html:<!DOCTYPE HTML PUBLIC "-//W3C//DTD HTML 3.2//E
 N"><HTML></HTML>
CREATED;TZID=America/Denver:20250204T145223
URL;VALUE=URI:https://flatheadcounty.gov/county-calendar/calendar-event-det
 ail/acf-spring-cleaning-art-craft-supply-market
DTSTART;TZID=America/Denver:20250329T000000
DTEND;TZID=America/Denver:20250329T235959
SEQUENCE:0
END:VEVENT
END:VCALENDAR
