BEGIN:VCALENDAR
VERSION:2.0
PRODID:-//Sabre//Sabre VObject 4.5.8//EN
CALSCALE:GREGORIAN
BEGIN:VEVENT
UID:sabre-vobject-2b24bb42-cf2c-4c77-ab0f-c90fe2bcc65c
DTSTAMP:20260420T114216Z
SUMMARY:EMS Administrative Board Meeting 
DESCRIPTION:Meeting of the Flathead County Emergency Medical Services Admin
 istrative Board. Meeting will be held in the EOC room at OES. 625 Timberwo
 lf Parkway\, Kalispell MT 59901.\n\nPlease note: Agenda will be posted pri
 or to the meeting at OES and online. Agenda is subject to change. Agenda w
 ill be posted no later than 48 hours prior to the meeting.&nbsp\;\n
X-ALT-DESC:FMTTYPE=text/html:<!DOCTYPE HTML PUBLIC "-//W3C//DTD HTML 3.2//E
 N"><HTML><p>Meeting of the Flathead County Emergency Medical Services Admi
 nistrative Board. Meeting will be held in the EOC room at OES. 625 Timberw
 olf Parkway\, Kalispell MT 59901.</p>\n\n<p>Please note: Agenda will be po
 sted prior to the meeting at OES and online. Agenda is subject to change. 
 Agenda will be posted no later than 48 hours prior to the meeting.&nbsp\;<
 /p>\n</HTML>
CREATED;TZID=America/Denver:20250311T095344
URL;VALUE=URI:https://flatheadcounty.gov/county-calendar/calendar-event-det
 ail/ems-administrative-board-meeting-12
DTSTART;TZID=America/Denver:20250311T130000
DTEND;TZID=America/Denver:20250311T143000
SEQUENCE:0
END:VEVENT
END:VCALENDAR
