BEGIN:VCALENDAR
VERSION:2.0
PRODID:-//Sabre//Sabre VObject 4.5.8//EN
CALSCALE:GREGORIAN
BEGIN:VEVENT
UID:sabre-vobject-76835b2f-a42f-48b4-902b-4e0217b65c1f
DTSTAMP:20260420T113557Z
SUMMARY:EMS Administrative Board Workshop
DESCRIPTION:Flathead County EMS Admin Board will be meeting on February 18t
 h at 1530 to discuss potential changes to the EMS Stipend Payments Policy 
 605.1. No final decision will be made at this meeting. This is to allow th
 e board members to come together and work on the policy together. \n\n&nbs
 p\;\n\nThe EMS Admin Board will also discuss Assistant Medical Director jo
 b position including requirements\, job description\, and potential pay. N
 o final decision will be made at this meeting. This is to allow the board 
 members to come together and work together on this. \n\n&nbsp\;\n\nMembers
  of the public are welcome to attend and voice their opinions during the w
 orkshop.\n\n&nbsp\;\n\nThank you.\n
X-ALT-DESC:FMTTYPE=text/html:<!DOCTYPE HTML PUBLIC "-//W3C//DTD HTML 3.2//E
 N"><HTML><p><span style="font-size:12pt"><span new="" roman="" style="font
 -family:" times=""><b><span calibri="" style="font-family:">Flathead Count
 y EMS Admin Board will be meeting on February 18<sup>th</sup> at 1530 to d
 iscuss potential changes to the EMS Stipend Payments Policy 605.1. No fina
 l decision will be made at this meeting. This is to allow the board member
 s to come together and work on the policy together. </span></b></span></sp
 an></p>\n\n<p>&nbsp\;</p>\n\n<p><span style="font-size:12pt"><span new="" 
 roman="" style="font-family:" times=""><b><span calibri="" style="font-fam
 ily:">The EMS Admin Board will also discuss Assistant Medical Director job
  position including requirements\, job description\, and potential pay. No
  final decision will be made at this meeting. This is to allow the board m
 embers to come together and work together on this. </span></b></span></spa
 n></p>\n\n<p>&nbsp\;</p>\n\n<p><span style="font-size:12pt"><span new="" r
 oman="" style="font-family:" times=""><b><span calibri="" style="font-fami
 ly:">Members of the public are welcome to attend and voice their opinions 
 during the workshop.</span></b></span></span></p>\n\n<p>&nbsp\;</p>\n\n<p>
 <span style="font-size:12pt"><span new="" roman="" style="font-family:" ti
 mes=""><b><span calibri="" style="font-family:">Thank you.</span></b></spa
 n></span></p>\n</HTML>
CREATED;TZID=America/Denver:20250216T162957
URL;VALUE=URI:https://flatheadcounty.gov/county-calendar/calendar-event-det
 ail/ems-administrative-board-workshop-2
DTSTART;TZID=America/Denver:20250218T153000
DTEND;TZID=America/Denver:20250218T163000
SEQUENCE:0
END:VEVENT
END:VCALENDAR
