BEGIN:VCALENDAR
VERSION:2.0
PRODID:-//Sabre//Sabre VObject 4.5.8//EN
CALSCALE:GREGORIAN
BEGIN:VEVENT
UID:sabre-vobject-bd85f53c-399d-4ac6-8b69-b9bf875ea262
DTSTAMP:20260422T091525Z
SUMMARY:Library Board of Trustees Board Meeting
DESCRIPTION:
X-ALT-DESC:FMTTYPE=text/html:<!DOCTYPE HTML PUBLIC "-//W3C//DTD HTML 3.2//E
 N"><HTML></HTML>
CREATED;TZID=America/Denver:20250214T165854
URL;VALUE=URI:https://flatheadcounty.gov/county-calendar/calendar-event-det
 ail/library-board-trustees-board-meeting-8
DTSTART;TZID=America/Denver:20250227T090000
DTEND;TZID=America/Denver:20250227T120000
SEQUENCE:0
END:VEVENT
END:VCALENDAR
