BEGIN:VCALENDAR
VERSION:2.0
PRODID:-//Sabre//Sabre VObject 4.5.8//EN
CALSCALE:GREGORIAN
BEGIN:VEVENT
UID:sabre-vobject-2033ef66-d974-40ac-b1c2-4897c1c262f8
DTSTAMP:20260420T115846Z
SUMMARY:CANCELLED Helena Flats Land Use Advisory Meeting
DESCRIPTION:
X-ALT-DESC:FMTTYPE=text/html:<!DOCTYPE HTML PUBLIC "-//W3C//DTD HTML 3.2//E
 N"><HTML></HTML>
CREATED;TZID=America/Denver:20250221T081334
URL;VALUE=URI:https://flatheadcounty.gov/county-calendar/calendar-event-det
 ail/helena-flats-land-use-advisory-meeting
DTSTART;TZID=America/Denver:20250225T163000
DTEND;TZID=America/Denver:20250225T183000
SEQUENCE:0
END:VEVENT
END:VCALENDAR
