BEGIN:VCALENDAR
VERSION:2.0
PRODID:-//Sabre//Sabre VObject 4.5.8//EN
CALSCALE:GREGORIAN
BEGIN:VEVENT
UID:sabre-vobject-3d96182c-7462-4c41-ac26-352939b56b22
DTSTAMP:20260420T113858Z
SUMMARY:Shamrock Shuffle 
DESCRIPTION:Sheriff&#39\;s Posse Fundraiser&nbsp\;\n
X-ALT-DESC:FMTTYPE=text/html:<!DOCTYPE HTML PUBLIC "-//W3C//DTD HTML 3.2//E
 N"><HTML><p>Sheriff&#39\;s Posse Fundraiser&nbsp\;</p>\n</HTML>
CREATED;TZID=America/Denver:20250310T085705
URL;VALUE=URI:https://flatheadcounty.gov/county-calendar/calendar-event-det
 ail/shamrock-shuffle
DTSTART;TZID=America/Denver:20250315T170000
DTEND;TZID=America/Denver:20250315T220000
SEQUENCE:0
END:VEVENT
END:VCALENDAR
