BEGIN:VCALENDAR
VERSION:2.0
PRODID:-//Sabre//Sabre VObject 4.5.8//EN
CALSCALE:GREGORIAN
BEGIN:VEVENT
UID:sabre-vobject-9f608a84-574a-42e4-a38a-3315cdcee4c1
DTSTAMP:20260420T113554Z
SUMMARY:EMS Administrative Board Meeting
DESCRIPTION:Meeting of the Flathead County Emergency Medical Services Admin
 istrative Board. Meeting will be held in the EOC room at OES. 625 Timberwo
 lf Parkway\, Kalispell MT 59901.\n\nThe board will be considering the appl
 icants for the Assistant Medical Director during this meeting and is wanti
 ng to take into consideration the public comments on the applicants. Publi
 c comments can be given during the meeting or via email to fcems@flatheadc
 ounty.gov. Any comments via email will be given to the board during the me
 eting.\n\nThe following are the applicants for the position:\n\nM. Emily F
 lemming\, DO\n\nDave Mangold\, PA\n\nAlex Merkle\, PA\n\nTim Thornton\, PA
 \n\nPlease note: Agenda will be posted prior to the meeting at OES and onl
 ine. Agenda is subject to change. Agenda will be posted no later than 48 h
 ours prior to the meeting.&nbsp\;\n
X-ALT-DESC:FMTTYPE=text/html:<!DOCTYPE HTML PUBLIC "-//W3C//DTD HTML 3.2//E
 N"><HTML><p>Meeting of the Flathead County Emergency Medical Services Admi
 nistrative Board. Meeting will be held in the EOC room at OES. 625 Timberw
 olf Parkway\, Kalispell MT 59901.</p>\n\n<p>The board will be considering 
 the applicants for the Assistant Medical Director during this meeting and 
 is wanting to take into consideration the public comments on the applicant
 s. Public comments can be given during the meeting or via email to fcems@f
 latheadcounty.gov. Any comments via email will be given to the board durin
 g the meeting.</p>\n\n<p>The following are the applicants for the position
 :</p>\n\n<p>M. Emily Flemming\, DO</p>\n\n<p>Dave Mangold\, PA</p>\n\n<p>A
 lex Merkle\, PA</p>\n\n<p>Tim Thornton\, PA</p>\n\n<p>Please note: Agenda 
 will be posted prior to the meeting at OES and online. Agenda is subject t
 o change. Agenda will be posted no later than 48 hours prior to the meetin
 g.&nbsp\;</p>\n</HTML>
CREATED;TZID=America/Denver:20250417T141636
URL;VALUE=URI:https://flatheadcounty.gov/county-calendar/calendar-event-det
 ail/ems-administrative-board-meeting-13
DTSTART;TZID=America/Denver:20250418T130000
DTEND;TZID=America/Denver:20250418T140000
SEQUENCE:0
END:VEVENT
END:VCALENDAR
