BEGIN:VCALENDAR
VERSION:2.0
PRODID:-//Sabre//Sabre VObject 4.5.8//EN
CALSCALE:GREGORIAN
BEGIN:VEVENT
UID:sabre-vobject-80c316e8-5372-40a8-b73f-86b30e3325f7
DTSTAMP:20260420T115754Z
SUMMARY:West Valley Land Use Advisory Committee Meeting CANCELLED
DESCRIPTION:West Valley Land Use Advisory Committee meeting is cancelled du
 e to lack of a quorum.&nbsp\;\n
X-ALT-DESC:FMTTYPE=text/html:<!DOCTYPE HTML PUBLIC "-//W3C//DTD HTML 3.2//E
 N"><HTML><p>West Valley Land Use Advisory Committee meeting is cancelled d
 ue to lack of a quorum.&nbsp\;</p>\n</HTML>
CREATED;TZID=America/Denver:20250319T113118
URL;VALUE=URI:https://flatheadcounty.gov/county-calendar/calendar-event-det
 ail/west-valley-land-use-advisory-committee-meeting-cancelled
DTSTART;TZID=America/Denver:20250325T180000
DTEND;TZID=America/Denver:20250325T200000
SEQUENCE:0
END:VEVENT
END:VCALENDAR
