BEGIN:VCALENDAR
VERSION:2.0
PRODID:-//Sabre//Sabre VObject 4.5.8//EN
CALSCALE:GREGORIAN
BEGIN:VEVENT
UID:sabre-vobject-262d2c3b-27b7-4c5a-b75a-48abee262770
DTSTAMP:20260420T082302Z
SUMMARY:Bigfork Rural Fire District Special Bond and Levy Election
DESCRIPTION:
X-ALT-DESC:FMTTYPE=text/html:<!DOCTYPE HTML PUBLIC "-//W3C//DTD HTML 3.2//E
 N"><HTML></HTML>
CREATED;TZID=America/Denver:20250725T085011
URL;VALUE=URI:https://flatheadcounty.gov/county-calendar/calendar-event-det
 ail/municipal-primary-election-day
DTSTART;TZID=America/Denver:20250909T070000
DTEND;TZID=America/Denver:20250909T200000
SEQUENCE:0
END:VEVENT
END:VCALENDAR
