BEGIN:VCALENDAR
VERSION:2.0
PRODID:-//Sabre//Sabre VObject 4.5.8//EN
CALSCALE:GREGORIAN
BEGIN:VEVENT
UID:sabre-vobject-7440040e-3554-467b-af94-57a05021187a
DTSTAMP:20260420T153340Z
SUMMARY:Municipal General Election Day
DESCRIPTION:
X-ALT-DESC:FMTTYPE=text/html:<!DOCTYPE HTML PUBLIC "-//W3C//DTD HTML 3.2//E
 N"><HTML></HTML>
CREATED;TZID=America/Denver:20250321T124946
URL;VALUE=URI:https://flatheadcounty.gov/county-calendar/calendar-event-det
 ail/municipal-general-election-day
DTSTART;TZID=America/Denver:20251104T070000
DTEND;TZID=America/Denver:20251104T200000
SEQUENCE:0
END:VEVENT
END:VCALENDAR
