BEGIN:VCALENDAR
VERSION:2.0
PRODID:-//Sabre//Sabre VObject 4.5.8//EN
CALSCALE:GREGORIAN
BEGIN:VEVENT
UID:sabre-vobject-357c72f1-f97a-40ba-8f07-55240d0c6cb7
DTSTAMP:20260420T115238Z
SUMMARY:Helena Flats Land Use Advisory Meeting
DESCRIPTION:
X-ALT-DESC:FMTTYPE=text/html:<!DOCTYPE HTML PUBLIC "-//W3C//DTD HTML 3.2//E
 N"><HTML></HTML>
CREATED;TZID=America/Denver:20250324T091237
URL;VALUE=URI:https://flatheadcounty.gov/county-calendar/calendar-event-det
 ail/helena-flats-land-use-advisory-meeting-1
DTSTART;TZID=America/Denver:20250325T163000
DTEND;TZID=America/Denver:20250325T183000
SEQUENCE:0
END:VEVENT
END:VCALENDAR
