BEGIN:VCALENDAR
VERSION:2.0
PRODID:-//Sabre//Sabre VObject 4.5.8//EN
CALSCALE:GREGORIAN
BEGIN:VEVENT
UID:sabre-vobject-fcd83a10-eb7d-414e-ae12-4902db668b40
DTSTAMP:20260420T114047Z
SUMMARY:Fighting Fraud in the 406
DESCRIPTION:Commissioners of Securities and Insurance holds a presentation 
 in the South Campus Conference Room on April 4th at 10:30 am. Attend to le
 arn about the red flags of fraud\, common investment scams\, and how to pr
 otect yourself from financial exploitation. Hosted by the Kalispell Senior
  Center and Flathead Co. Agency on Aging.\n
X-ALT-DESC:FMTTYPE=text/html:<!DOCTYPE HTML PUBLIC "-//W3C//DTD HTML 3.2//E
 N"><HTML><p>Commissioners of Securities and Insurance holds a presentation
  in the South Campus Conference Room on April 4th at 10:30 am. Attend to l
 earn about the red flags of fraud\, common investment scams\, and how to p
 rotect yourself from financial exploitation. Hosted by the Kalispell Senio
 r Center and Flathead Co. Agency on Aging.</p>\n</HTML>
CREATED;TZID=America/Denver:20250325T142217
URL;VALUE=URI:https://flatheadcounty.gov/county-calendar/calendar-event-det
 ail/fighting-fraud-406
DTSTART;TZID=America/Denver:20250404T103000
DTEND;TZID=America/Denver:20250404T120000
SEQUENCE:0
END:VEVENT
END:VCALENDAR
