BEGIN:VCALENDAR
VERSION:2.0
PRODID:-//Sabre//Sabre VObject 4.5.8//EN
CALSCALE:GREGORIAN
BEGIN:VEVENT
UID:sabre-vobject-9bb4b6a1-9b1a-4cfe-aa7b-6e29d70ac8fe
DTSTAMP:20260420T115747Z
SUMMARY:Local Emergency Planning Committee (LEPC) Meeting
DESCRIPTION:Quarterly meeting of the Flathead County Local Emergency Planni
 ng Committee. The meeting will be held in the EOC room at OES. 625 Timberw
 olf Parkway\, Kalispell MT 59901.\n\nPlease Note: The Agenda will be poste
 d online no later than 48 hours prior to the meeting\, and agenda items ar
 e subject to change. \n
X-ALT-DESC:FMTTYPE=text/html:<!DOCTYPE HTML PUBLIC "-//W3C//DTD HTML 3.2//E
 N"><HTML><p style="margin-bottom:11px"><span style="font-size:12pt"><span 
 style="line-height:115%"><span style="font-family:Aptos\,sans-serif">Quart
 erly meeting of the Flathead County Local Emergency Planning Committee. Th
 e meeting will be held in the EOC room at OES. 625 Timberwolf Parkway\, Ka
 lispell MT 59901.</span></span></span></p>\n\n<p style="margin-bottom:11px
 "><span style="font-size:12pt"><span style="line-height:115%"><span style=
 "font-family:Aptos\,sans-serif">Please Note: The Agenda will be posted onl
 ine no later than 48 hours prior to the meeting\, and agenda items are sub
 ject to change. </span></span></span></p>\n</HTML>
CREATED;TZID=America/Denver:20250528T152443
URL;VALUE=URI:https://flatheadcounty.gov/county-calendar/calendar-event-det
 ail/local-emergency-planning-committee-lepc-meeting
DTSTART;TZID=America/Denver:20250402T133000
DTEND;TZID=America/Denver:20250402T150000
SEQUENCE:0
END:VEVENT
END:VCALENDAR
