BEGIN:VCALENDAR
VERSION:2.0
PRODID:-//Sabre//Sabre VObject 4.5.8//EN
CALSCALE:GREGORIAN
BEGIN:VEVENT
UID:sabre-vobject-e99161a4-3bec-44a6-93cf-e694805f5a12
DTSTAMP:20260420T113942Z
SUMMARY:(CANCELED) EMS Administrative Board Meeting 
DESCRIPTION:MEETING MOVED TO JUNE 3RD\n\nMeeting of the Flathead County Eme
 rgency Medical Services Administrative Board. Meeting will be held in the 
 EOC room at OES. 625 Timberwolf Parkway\, Kalispell MT 59901.\n\nPlease no
 te: Agenda will be posted prior to the meeting at OES and online. Agenda i
 s subject to change. Agenda will be posted no later than 48 hours prior to
  the meeting.&nbsp\;\n
X-ALT-DESC:FMTTYPE=text/html:<!DOCTYPE HTML PUBLIC "-//W3C//DTD HTML 3.2//E
 N"><HTML><p><strong>MEETING MOVED TO JUNE 3RD</strong></p>\n\n<p>Meeting o
 f the Flathead County Emergency Medical Services Administrative Board. Mee
 ting will be held in the EOC room at OES. 625 Timberwolf Parkway\, Kalispe
 ll MT 59901.</p>\n\n<p>Please note: Agenda will be posted prior to the mee
 ting at OES and online. Agenda is subject to change. Agenda will be posted
  no later than 48 hours prior to the meeting.&nbsp\;</p>\n</HTML>
CREATED;TZID=America/Denver:20250527T223249
URL;VALUE=URI:https://flatheadcounty.gov/county-calendar/calendar-event-det
 ail/ems-administrative-board-meeting-14
DTSTART;TZID=America/Denver:20250610T130000
DTEND;TZID=America/Denver:20250610T150000
SEQUENCE:0
END:VEVENT
END:VCALENDAR
