BEGIN:VCALENDAR
VERSION:2.0
PRODID:-//Sabre//Sabre VObject 4.5.8//EN
CALSCALE:GREGORIAN
BEGIN:VEVENT
UID:sabre-vobject-347b3297-f138-4084-8546-bf470cdaaaae
DTSTAMP:20260420T113748Z
SUMMARY:Women's Fair
DESCRIPTION:
X-ALT-DESC:FMTTYPE=text/html:<!DOCTYPE HTML PUBLIC "-//W3C//DTD HTML 3.2//E
 N"><HTML></HTML>
CREATED;TZID=America/Denver:20250402T093545
URL;VALUE=URI:https://flatheadcounty.gov/county-calendar/calendar-event-det
 ail/womens-fair
DTSTART;TZID=America/Denver:20250412T110000
DTEND;TZID=America/Denver:20250412T160000
SEQUENCE:0
END:VEVENT
END:VCALENDAR
