BEGIN:VCALENDAR
VERSION:2.0
PRODID:-//Sabre//Sabre VObject 4.5.8//EN
CALSCALE:GREGORIAN
BEGIN:VEVENT
UID:sabre-vobject-b52d9a90-c9a3-4996-b348-b39241d970ce
DTSTAMP:20260420T081234Z
SUMMARY:Alert Banquet 
DESCRIPTION:
X-ALT-DESC:FMTTYPE=text/html:<!DOCTYPE HTML PUBLIC "-//W3C//DTD HTML 3.2//E
 N"><HTML></HTML>
CREATED;TZID=America/Denver:20250403T112813
URL;VALUE=URI:https://flatheadcounty.gov/county-calendar/calendar-event-det
 ail/alert-banquet
DTSTART;TZID=America/Denver:20250426T173000
DTEND;TZID=America/Denver:20250426T230000
SEQUENCE:0
END:VEVENT
END:VCALENDAR
