BEGIN:VCALENDAR
VERSION:2.0
PRODID:-//Sabre//Sabre VObject 4.5.8//EN
CALSCALE:GREGORIAN
BEGIN:VEVENT
UID:sabre-vobject-b3484977-24a6-46ff-aa7a-7c85ebd2da72
DTSTAMP:20260420T115244Z
SUMMARY:Hot Tub & Swim Spa Sale
DESCRIPTION:
X-ALT-DESC:FMTTYPE=text/html:<!DOCTYPE HTML PUBLIC "-//W3C//DTD HTML 3.2//E
 N"><HTML></HTML>
CREATED;TZID=America/Denver:20250414T132247
URL;VALUE=URI:https://flatheadcounty.gov/county-calendar/calendar-event-det
 ail/hot-tub-and-swim-spa-sale-4
DTSTART;TZID=America/Denver:20250425T120000
DTEND;TZID=America/Denver:20250427T180000
SEQUENCE:0
END:VEVENT
END:VCALENDAR
