BEGIN:VCALENDAR
VERSION:2.0
PRODID:-//Sabre//Sabre VObject 4.5.8//EN
CALSCALE:GREGORIAN
BEGIN:VEVENT
UID:sabre-vobject-eea4717f-59c7-4bed-9e4f-7f7964dbd960
DTSTAMP:20260420T080021Z
SUMMARY:Putt Putt Palooza 
DESCRIPTION:
X-ALT-DESC:FMTTYPE=text/html:<!DOCTYPE HTML PUBLIC "-//W3C//DTD HTML 3.2//E
 N"><HTML></HTML>
CREATED;TZID=America/Denver:20250403T113826
URL;VALUE=URI:https://flatheadcounty.gov/county-calendar/calendar-event-det
 ail/putt-putt-palooza
DTSTART;TZID=America/Denver:20250410T150000
DTEND;TZID=America/Denver:20250410T190000
SEQUENCE:0
END:VEVENT
END:VCALENDAR
