BEGIN:VCALENDAR
VERSION:2.0
PRODID:-//Sabre//Sabre VObject 4.5.8//EN
CALSCALE:GREGORIAN
BEGIN:VEVENT
UID:sabre-vobject-3e78a00d-5b97-4b13-908a-c356dedeeb10
DTSTAMP:20260420T124512Z
SUMMARY:Run for the Roses 
DESCRIPTION:A Kentucky Derby Watch Party Fundraiser&nbsp\;\n
X-ALT-DESC:FMTTYPE=text/html:<!DOCTYPE HTML PUBLIC "-//W3C//DTD HTML 3.2//E
 N"><HTML><p>A Kentucky Derby Watch Party Fundraiser&nbsp\;</p>\n</HTML>
CREATED;TZID=America/Denver:20250414T140100
URL;VALUE=URI:https://flatheadcounty.gov/county-calendar/calendar-event-det
 ail/run-roses
DTSTART;TZID=America/Denver:20250503T140000
DTEND;TZID=America/Denver:20250503T210000
SEQUENCE:0
END:VEVENT
END:VCALENDAR
