BEGIN:VCALENDAR
VERSION:2.0
PRODID:-//Sabre//Sabre VObject 4.5.8//EN
CALSCALE:GREGORIAN
BEGIN:VEVENT
UID:sabre-vobject-536f2501-9840-4212-930e-6060877b4217
DTSTAMP:20260420T113916Z
SUMMARY:April Fair Board Meeting 
DESCRIPTION:
X-ALT-DESC:FMTTYPE=text/html:<!DOCTYPE HTML PUBLIC "-//W3C//DTD HTML 3.2//E
 N"><HTML></HTML>
CREATED;TZID=America/Denver:20250421T120155
URL;VALUE=URI:https://flatheadcounty.gov/county-calendar/calendar-event-det
 ail/april-fair-board-meeting
DTSTART;TZID=America/Denver:20250424T183000
DTEND;TZID=America/Denver:20250424T193000
SEQUENCE:0
END:VEVENT
END:VCALENDAR
