BEGIN:VCALENDAR
VERSION:2.0
PRODID:-//Sabre//Sabre VObject 4.5.8//EN
CALSCALE:GREGORIAN
BEGIN:VEVENT
UID:sabre-vobject-539497c2-fca7-4b5e-8389-d1a5c23aef40
DTSTAMP:20260420T113943Z
SUMMARY:Weed/Parks & Recreation Board Meeting
DESCRIPTION:
X-ALT-DESC:FMTTYPE=text/html:<!DOCTYPE HTML PUBLIC "-//W3C//DTD HTML 3.2//E
 N"><HTML></HTML>
CREATED;TZID=America/Denver:20250429T165533
URL;VALUE=URI:https://flatheadcounty.gov/county-calendar/calendar-event-det
 ail/weedparks-and-recreation-board-meeting-19
DTSTART;TZID=America/Denver:20250505T083000
DTEND;TZID=America/Denver:20250505T103000
SEQUENCE:0
END:VEVENT
END:VCALENDAR
