BEGIN:VCALENDAR
VERSION:2.0
PRODID:-//Sabre//Sabre VObject 4.5.8//EN
CALSCALE:GREGORIAN
BEGIN:VEVENT
UID:sabre-vobject-2b872f7a-6c60-4aa5-b47f-3ab4e6d73800
DTSTAMP:20260420T114219Z
SUMMARY:Families and Legacies: Challenging Decisions
DESCRIPTION:Legacy Planning Workshop presented by Marsha Goetting\, Ph.D.\,
  CFP\, MSU Extension Family Economics Specialist. Register by May 28th. Ca
 ll (406) 758-5553 or email ashli.darrach@montana.edu.\n
X-ALT-DESC:FMTTYPE=text/html:<!DOCTYPE HTML PUBLIC "-//W3C//DTD HTML 3.2//E
 N"><HTML><p>Legacy Planning Workshop presented by Marsha Goetting\, Ph.D.\
 , CFP\, MSU Extension Family Economics Specialist. Register by May 28th. C
 all (406) 758-5553 or email ashli.darrach@montana.edu.</p>\n</HTML>
CREATED;TZID=America/Denver:20250520T163843
URL;VALUE=URI:https://flatheadcounty.gov/county-calendar/calendar-event-det
 ail/families-and-legacies-challenging-decisions
DTSTART;TZID=America/Denver:20250605T130000
DTEND;TZID=America/Denver:20250605T150000
SEQUENCE:0
END:VEVENT
END:VCALENDAR
