BEGIN:VCALENDAR
VERSION:2.0
PRODID:-//Sabre//Sabre VObject 4.5.8//EN
CALSCALE:GREGORIAN
BEGIN:VEVENT
UID:sabre-vobject-122d8d52-7248-46fe-9d69-877cc37a43be
DTSTAMP:20260420T113545Z
SUMMARY:Families and Legacies: Challenging Decisions
DESCRIPTION:Legacy Planning Workshop presented by Marsha Goetting\, Ph.D. C
 FP\, MSU Extension Family Economics Specialist. Session held at Buffalo Hi
 ll Terrance\, 40 Claremont St in Kalispell from 6-8 pm. Register by May 28
 th by calling 406 758-5553 or email ashli.darrach@montana.edu.\n
X-ALT-DESC:FMTTYPE=text/html:<!DOCTYPE HTML PUBLIC "-//W3C//DTD HTML 3.2//E
 N"><HTML><p>Legacy Planning Workshop presented by Marsha Goetting\, Ph.D. 
 CFP\, MSU Extension Family Economics Specialist. Session held at Buffalo H
 ill Terrance\, 40 Claremont St in Kalispell from 6-8 pm. Register by May 2
 8th by calling 406 758-5553 or email ashli.darrach@montana.edu.</p>\n</HTM
 L>
CREATED;TZID=America/Denver:20250520T163745
URL;VALUE=URI:https://flatheadcounty.gov/county-calendar/calendar-event-det
 ail/families-and-legacies-challenging-decisions-1
DTSTART;TZID=America/Denver:20250604T180000
DTEND;TZID=America/Denver:20250604T200000
SEQUENCE:0
END:VEVENT
END:VCALENDAR
