BEGIN:VCALENDAR
VERSION:2.0
PRODID:-//Sabre//Sabre VObject 4.5.8//EN
CALSCALE:GREGORIAN
BEGIN:VEVENT
UID:sabre-vobject-8a2a4919-686b-4083-a760-86c6c81d0503
DTSTAMP:20260420T125049Z
SUMMARY:Legacy Planning: To Have a Trust or a Will
DESCRIPTION:Legacy Planning Workshop presented by Marsha Goetting\, Ph.D. C
 FP\, MSU Extension Family Economics Specialist. Held at Buffalo Hill Terra
 ce\, 45 Claremont St\, Kalispell from 9-11 am. Register by May 28th by cal
 ling 406-758-5553 or email ashli.darrach@montana.edu.\n
X-ALT-DESC:FMTTYPE=text/html:<!DOCTYPE HTML PUBLIC "-//W3C//DTD HTML 3.2//E
 N"><HTML><p>Legacy Planning Workshop presented by Marsha Goetting\, Ph.D. 
 CFP\, MSU Extension Family Economics Specialist. Held at Buffalo Hill Terr
 ace\, 45 Claremont St\, Kalispell from 9-11 am. Register by May 28th by ca
 lling 406-758-5553 or email ashli.darrach@montana.edu.</p>\n</HTML>
CREATED;TZID=America/Denver:20250520T163554
URL;VALUE=URI:https://flatheadcounty.gov/county-calendar/calendar-event-det
 ail/legacy-planning-have-trust-or-will-1
DTSTART;TZID=America/Denver:20250605T090000
DTEND;TZID=America/Denver:20250605T110000
SEQUENCE:0
END:VEVENT
END:VCALENDAR
